BEGIN:VCALENDAR
VERSION:2.0
PRODID:-//https://www.messebau.com///NONSGML kigkonsult.se iCalcreator 2.10.15//
METHOD:PUBLISH
BEGIN:VEVENT
UID:20260421T165831UTC-1605UX4CgJ@https://www.messebau.com/
DTSTAMP:20260421T165831Z
DESCRIPTION:\nEMO Hannover\, die weltweit bedeutendste Fachmesse der Produk
 tionstechnologie\, wird zweimal in Folge in den ungeraden Jahren in Hannov
 er veranstaltet. Sie findet unter der Schirmherrschaft des europäischen Ko
 mitees für die Zusammenarbeit der Werkzeugmaschinenindustrien (Cecimo) sta
 tt.\nInnovate Manufacturing – das ist die neue EMO Hannover\nDie EMO Hanno
 ver ist Ausgangspunkt für Innovationen\, wichtige Debatten und neue Busine
 ss-Partnerschaften. Auf keiner anderen Messe der Branche erleben Sie so vi
 ele Trends und Neuheiten hautnah – denn die Aussteller haben seit Langem i
 hre Innovationszyklen auf ihren Messeauftritt auf der EMO ausgerichtet. ->
  Mehr\n„Innovate Manufacturing“ heißt der neue Claim der EMO Hannover 2023
 . Er adressiert die Herausforderungen für die Industrie in den kommenden M
 onaten und Jahren. Der Wandel hat sich erheblich beschleunigt\, der Wettbe
 werbsdruck auf vielen Feldern erhöht. Die Transformation in Abnehmerbranch
 en und Märkten fordert die Unternehmen auf beiden Seiten extrem heraus.\n
 \nSie planen eine Teilnahme an der EMO 2025?  Wir bieten professionellen M
 essebau von der Planung über das Design bis zum fertigen Messestand.\nMach
 en Sie unseren Messe-Quick-Check: Laden Sie sich unsere  Checkliste für Ih
 ren Messeauftritt als PDF herunter.\n\n\n\nHaben Sie noch Fragen oder möch
 ten Sie ein Angebot erhalten?\n{loadposition kontakt-messe} https://www.me
 ssebau.com/component/rseventspro/event/459-messe-emo-in-hannover-2025?Item
 id=101
DTSTART:20250922T000000Z
DTEND:20250927T170000Z
LOCATION:Messegelände Hannover (Messegelände\, 30521 Hannover\, Deutschland
 )
SUMMARY:Messe EMO in Hannover 2025
URL:https://www.messebau.com/component/rseventspro/event/459-messe-emo-in-h
 annover-2025?Itemid=101
END:VEVENT
END:VCALENDAR
